BEGIN:VCALENDAR
PRODID:-//eluceo/ical//2.0/EN
VERSION:2.0
CALSCALE:GREGORIAN
BEGIN:VEVENT
UID:7372ed12f5d393d4e15748ec4d9e14db
DTSTAMP:20260421T105146Z
SUMMARY:Speaker:  The Case Against Auschwitz Nazi Oskar Groening
DESCRIPTION:UJA Federation of Greater Toronto\nJewish Toronto Calendar\nhtt
 ps://jewishtoronto.com/calendar/speaker-the-case-against-auschwitz-nazi-os
 kar-groening\n\nNa’amat Canada Toronto’s Club Aviv presents\, Judge Th
 omas Walther speaking on The Case Against Auschwitz Nazi Oskar Groening\n\
 nTo ensure your seat please call 416.636.5425 or email cards@naamattoronto
 .ca
DTSTART;TZID=America/Toronto:20150203T193000
DTEND;TZID=America/Toronto:20150203T213000
END:VEVENT
END:VCALENDAR
