BEGIN:VCALENDAR
PRODID:-//eluceo/ical//2.0/EN
VERSION:2.0
CALSCALE:GREGORIAN
BEGIN:VEVENT
UID:eea5f085d4e7f5918b74cbf98ec533cd
DTSTAMP:20260425T205653Z
SUMMARY:Speaker Series presents “I’ll Never Smile Again” with Tom San
 dler
DESCRIPTION:UJA Federation of Greater Toronto\nJewish Toronto Calendar\nhtt
 ps://jewishtoronto.com/calendar/speaker-series-presents-ill-never-smile-ag
 ain-with-tom-sandler\n\nTemple Har Zion Daytime Speaker Series presents 
 “I’ll Never Smile Again” with Tom Sandler. Tom\, son of songwriter R
 uth Lowe\, who launched Frank Sinatra’s career\, will share details abou
 t Ruth’s musical vocation. Bring your own lunch at noon – we provide h
 ot drinks and sweets.\n\nSpeakers begin at 12:30pm.\n\nAdmission is $3 for
  Temple Members and $6 for Guests.\n\nEveryone is welcome\, so bring your 
 friends.\n\n 
DTSTART;TZID=America/Toronto:20151110T120000
DTEND;TZID=America/Toronto:20151110T133000
END:VEVENT
END:VCALENDAR
