BEGIN:VCALENDAR
PRODID:-//eluceo/ical//2.0/EN
VERSION:2.0
CALSCALE:GREGORIAN
BEGIN:VEVENT
UID:4c9af90bbd4fa6b3c36942df74f5b492
DTSTAMP:20260425T163201Z
SUMMARY:Spa for the Soul
DESCRIPTION:UJA Federation of Greater Toronto\nJewish Toronto Calendar\nhtt
 ps://jewishtoronto.com/calendar/spa-for-the-soul-1513625204\n\nAn evening 
 of rejuvenation of body and soul\; spa treatments\, & gourmet food.\nGuest
  speaker: Mrs Goldie Plotkin "Faith under Fire"
DTSTART;TZID=America/Toronto:20180114T190000
DTEND;TZID=America/Toronto:20180114T210000
END:VEVENT
END:VCALENDAR
