BEGIN:VCALENDAR
PRODID:-//eluceo/ical//2.0/EN
VERSION:2.0
CALSCALE:GREGORIAN
BEGIN:VEVENT
UID:061ce915f0880cbd61d7b6204b87cede
DTSTAMP:20260421T043613Z
SUMMARY:Sound and Sense: Jewish Music @York: SoCalled featuring Nizo Alimov
DESCRIPTION:UJA Federation of Greater Toronto\nJewish Toronto Calendar\nhtt
 ps://jewishtoronto.com/calendar/sound-and-sense-jewish-music-york-socalled
 -featuring-nizo-alimov-1764345367\n\nJUNO-nominated Socalled in a special 
 concert featuring Yiddish melodies and funky beats.\nThe Koschitzky Centre
  for Jewish Studies and the Department of Music in the School of the Arts\
 , Media\, Performance and Design are proud to present Socalled\, AKA Josh 
 Dolgin in a special concert featuring Katie Moore\, Nizo Alimov and Marc D
 echo. This quartet\, formed especially for this concert\, will visit the r
 epertoire of Socalled’s discography and explore the musical possibilitie
 s of beats and funky Y...
DTSTART;TZID=America/Toronto:20251207T150000
DTEND;TZID=America/Toronto:20251207T170000
END:VEVENT
END:VCALENDAR
