BEGIN:VCALENDAR
PRODID:-//eluceo/ical//2.0/EN
VERSION:2.0
CALSCALE:GREGORIAN
BEGIN:VEVENT
UID:d2a236d6618f1313efea9be2b09fddb6
DTSTAMP:20260421T221348Z
SUMMARY:Soulful Study with Ralph Benmergui - Mensch Works (Men’s Group)
DESCRIPTION:UJA Federation of Greater Toronto\nJewish Toronto Calendar\nhtt
 ps://jewishtoronto.com/calendar/soulful-study-with-ralph-benmergui---mensc
 h-works-mens-group-1522267728\n\nA Temple Sinai Program: Soulful Study wit
 h Ralph Benmergui - Mensch Works (Men’s Group)\n\nWorking within the con
 text of Jewish spiritual life\, we will share our life journeys and explor
 e what it means to be a man as our work and personal lives evolve. What ar
 e we if not providers in the same way anymore? What will get us out of bed
  after the daily grind subsides\, and how can we be useful to ourselves\, 
 our families and the greater community? Ralph Benmergui is best known as a
  broadcaster\, h...
DTSTART;TZID=America/Toronto:20180412T190000
DTEND;TZID=America/Toronto:20180412T210000
END:VEVENT
END:VCALENDAR
