BEGIN:VCALENDAR
PRODID:-//eluceo/ical//2.0/EN
VERSION:2.0
CALSCALE:GREGORIAN
BEGIN:VEVENT
UID:722e9c251a0bb761d02c2d81e08ccee2
DTSTAMP:20260420T072743Z
SUMMARY:Soul Brew with Rabbi Rachel 'Bluth' Rosenbluth
DESCRIPTION:UJA Federation of Greater Toronto\nJewish Toronto Calendar\nhtt
 ps://jewishtoronto.com/calendar/soul-brew-with-rabbi-rachel-bluth-rosenblu
 th-1598466109\n\nJoin us every morning on social media for the SOUL BREW m
 orning show!\n\nPercolate your mind\, body and soul as we journey through 
 the month of Elul with voices from around the world. Enjoy introspection a
 nd inspiration leading to the High Holy Days with a daily series of 15 min
 ute videos\, hosted by Rabbi Rachel &quot\;Bluth&quot\; Rosenbluth and a s
 eries of artists\, thinkers and leaders from Beth Tzedec and across the gl
 obe.\n\nFind the series on Youtube here:...
DTSTART;TZID=America/Toronto:20200913T090000
DTEND;TZID=America/Toronto:20200913T092000
END:VEVENT
END:VCALENDAR
