BEGIN:VCALENDAR
PRODID:-//eluceo/ical//2.0/EN
VERSION:2.0
CALSCALE:GREGORIAN
BEGIN:VEVENT
UID:82e1e4f28252acb26453cee8162df47f
DTSTAMP:20260421T232609Z
SUMMARY:Sophisticated Fashions and Afternoon Tea
DESCRIPTION:UJA Federation of Greater Toronto\nJewish Toronto Calendar\nhtt
 ps://jewishtoronto.com/calendar/sophisticated-fashions-and-afternoon-tea-1
 539274338\n\nIn 2017\, the GOC brought Yezidi survivors of genocide and se
 xual slavery to Canada as government-sponsored refugees.  None of the rese
 ttlement organizations were prepared for the extreme level of trauma that 
 this community is experiencing.  Project Abraham\, first formed in 2015 to
  bring over privately-sponsored Yezidi refugees\, quickly put together vol
 unteer resettlement teams to support the Yezidis living in the GTA.   The 
 proceeds from this fundraiser will go a long way to helping us in...
DTSTART;TZID=America/Toronto:20181111T130000
DTEND;TZID=America/Toronto:20181111T160000
END:VEVENT
END:VCALENDAR
