BEGIN:VCALENDAR
PRODID:-//eluceo/ical//2.0/EN
VERSION:2.0
CALSCALE:GREGORIAN
BEGIN:VEVENT
UID:a09b073563db64a862470cacf9df5aac
DTSTAMP:20260422T060110Z
SUMMARY:Songs of Light
DESCRIPTION:UJA Federation of Greater Toronto\nJewish Toronto Calendar\nhtt
 ps://jewishtoronto.com/calendar/songs-of-light-1645713073\n\nAn eclectic L
 ag B'omer Concert!\n\nFeaturing Cantor David Guber.\n\nMaster of Ceremonie
 s: Rabbi Elie Karfunkel
DTSTART;TZID=America/Toronto:20220519T193000
DTEND;TZID=America/Toronto:20220519T213000
END:VEVENT
END:VCALENDAR
