BEGIN:VCALENDAR
PRODID:-//eluceo/ical//2.0/EN
VERSION:2.0
CALSCALE:GREGORIAN
BEGIN:VEVENT
UID:bf2cff2ab9f3189dd35efc1d9f0d8d1f
DTSTAMP:20260422T234549Z
SUMMARY:Song Circles with Aviva Chernick
DESCRIPTION:UJA Federation of Greater Toronto\nJewish Toronto Calendar\nhtt
 ps://jewishtoronto.com/calendar/song-circles-with-aviva-chernick-170232800
 9\n\nThursday\, January 11 and Sundays\, January 14 & 21\n\nJoin Aviva Che
 rnick to explore what it is to sing and join in healing and uplifting song
  in the lead up to the celebration of the Song of the Sea. Come in out of 
 the cold and let the singing and community warm you up. Ages 12 years old 
 and up are welcome. No prior singing experience is necessary to participat
 e. Every voice is welcome! \n\nThere is no charge but pre-registration is 
 requested. To register\, visit...
DTSTART;TZID=America/Toronto:20240111T173000
DTEND;TZID=America/Toronto:20240111T190000
END:VEVENT
END:VCALENDAR
