BEGIN:VCALENDAR
PRODID:-//eluceo/ical//2.0/EN
VERSION:2.0
CALSCALE:GREGORIAN
BEGIN:VEVENT
UID:033304714564606df874cd265c912a50
DTSTAMP:20260421T070132Z
SUMMARY:Song Circle with Aviva Chernick
DESCRIPTION:UJA Federation of Greater Toronto\nJewish Toronto Calendar\nhtt
 ps://jewishtoronto.com/calendar/song-circle-with-aviva-chernick-1736799523
 \n\nThe Song Circle returns … for three weeks in January leading up to S
 habbat Shirah—the Sabbath of Song.\n\nJoin Aviva Chernick to explore wha
 t it is to sing and join in healing and uplifting song in the lead up to t
 he celebration of the Song of the Sea. Come in out of the cold and let the
  singing and community warm you up. Ages 12 years old and up are welcome. 
 No prior singing experience is necessary to participate. Every voice is we
 lcome! \n\nAll Hebrew text will be translated and...
DTSTART;TZID=America/Toronto:20250116T190000
DTEND;TZID=America/Toronto:20250116T201500
END:VEVENT
END:VCALENDAR
