BEGIN:VCALENDAR
PRODID:-//eluceo/ical//2.0/EN
VERSION:2.0
CALSCALE:GREGORIAN
BEGIN:VEVENT
UID:5fab407d5b587bd24976e6b3b9be2aa3
DTSTAMP:20260421T215316Z
SUMMARY:Soccerthon – Kicking For Kids
DESCRIPTION:UJA Federation of Greater Toronto\nJewish Toronto Calendar\nhtt
 ps://jewishtoronto.com/calendar/soccerthon-kicking-for-kids-141981\n\nThe 
 Canadian Friends of Beit Issie Shapiro 5th Annual Soccerthon “Kicking Fo
 r Kids 2015” at Trio Sportsplex in Woodbridge.\n\nThe Soccerthon is a ro
 und-robin marathon of indoor soccer! A total of 16 adult teams with 6 play
 ers-a-side (goalie + 5 players) will participate. The event will include a
  Kids Zone and activities for children with disabilities.\n\nMaccabi Canad
 a will enter a Maccabi soccer team in the tournament\, as well as help run
  free soccer clinics for children.  If you are a ...
DTSTART;TZID=America/Toronto:20150426T140000
DTEND;TZID=America/Toronto:20150426T180000
END:VEVENT
END:VCALENDAR
