BEGIN:VCALENDAR
PRODID:-//eluceo/ical//2.0/EN
VERSION:2.0
CALSCALE:GREGORIAN
BEGIN:VEVENT
UID:573c96d87bacb971e713bdb64c229cf0
DTSTAMP:20260420T024442Z
SUMMARY:Snapshot Social - A legal networking night
DESCRIPTION:UJA Federation of Greater Toronto\nJewish Toronto Calendar\nhtt
 ps://jewishtoronto.com/calendar/snapshot-social---a-legal-networking-night
 -1752556183\n\nHillel\, the Canadian Jewish lawyers association and the Ca
 nadian Jewish Law Students' Association have come together to host law stu
 dents and legal professionals for an inspiring evening of connection\, men
 torship\, and community.\n\nWe warmly encourage you to join us and share y
 our experience to help guide and uplift the next generation of Jewish lega
 l professionals.
DTSTART;TZID=America/Toronto:20250730T190000
DTEND;TZID=America/Toronto:20250730T210000
END:VEVENT
END:VCALENDAR
