BEGIN:VCALENDAR
PRODID:-//eluceo/ical//2.0/EN
VERSION:2.0
CALSCALE:GREGORIAN
BEGIN:VEVENT
UID:156ad742cfd7ee4b0ffa073fd8f4157d
DTSTAMP:20260422T074630Z
SUMMARY:Smarty Party with Save a Child's Heart
DESCRIPTION:UJA Federation of Greater Toronto\nJewish Toronto Calendar\nhtt
 ps://jewishtoronto.com/calendar/smarty-party-with-save-a-childs-heart-1615
 838184\n\nOn Sunday\, April 11 at 10am\, Smartiepants will host a virtual 
 heart themed art &amp\;science class. In advance of the class\, participan
 ts will receive a Super Smartie Activity Bag\, which will have all of the 
 necessary items needed for the class. All proceeds will support Save a Chi
 ld&#039\;s Heart.
DTSTART;TZID=America/Toronto:20210411T100000
DTEND;TZID=America/Toronto:20210411T110000
END:VEVENT
END:VCALENDAR
