BEGIN:VCALENDAR
PRODID:-//eluceo/ical//2.0/EN
VERSION:2.0
CALSCALE:GREGORIAN
BEGIN:VEVENT
UID:57a22adc424a92bce35f1337c01ccba9
DTSTAMP:20260424T024436Z
SUMMARY:Small Wonders Event
DESCRIPTION:UJA Federation of Greater Toronto\nJewish Toronto Calendar\nhtt
 ps://jewishtoronto.com/calendar/small-wonders-event-1613661958\n\nZoom
DTSTART;TZID=America/Toronto:20210523T180000
DTEND;TZID=America/Toronto:20210523T200000
END:VEVENT
END:VCALENDAR
