BEGIN:VCALENDAR
PRODID:-//eluceo/ical//2.0/EN
VERSION:2.0
CALSCALE:GREGORIAN
BEGIN:VEVENT
UID:9e0b01d28e4dcdeb2e9a51144f171939
DTSTAMP:20260423T170254Z
SUMMARY:Small Wonders Bake Sale
DESCRIPTION:UJA Federation of Greater Toronto\nJewish Toronto Calendar\nhtt
 ps://jewishtoronto.com/calendar/small-wonders-bake-sale-1746458250\n\nSmal
 l Wonders Bake Sale.
DTSTART;TZID=America/Toronto:20250529T090000
DTEND;TZID=America/Toronto:20250529T210000
END:VEVENT
END:VCALENDAR
