BEGIN:VCALENDAR
PRODID:-//eluceo/ical//2.0/EN
VERSION:2.0
CALSCALE:GREGORIAN
BEGIN:VEVENT
UID:70691ffcc98a232a944d485531421d4d
DTSTAMP:20260422T144626Z
SUMMARY:Small Wonders Bake Sale
DESCRIPTION:UJA Federation of Greater Toronto\nJewish Toronto Calendar\nhtt
 ps://jewishtoronto.com/calendar/small-wonders-bake-sale-1681833162\n\nPlea
 se email office@smallwonders.ca for more info
DTSTART;TZID=America/Toronto:20230524T090000
DTEND;TZID=America/Toronto:20230524T210000
END:VEVENT
END:VCALENDAR
