BEGIN:VCALENDAR
PRODID:-//eluceo/ical//2.0/EN
VERSION:2.0
CALSCALE:GREGORIAN
BEGIN:VEVENT
UID:a6bc05c616894179c2cc227fdbf6357f
DTSTAMP:20260420T232623Z
SUMMARY:Small Wonders 8th Annual Bake Sale
DESCRIPTION:UJA Federation of Greater Toronto\nJewish Toronto Calendar\nhtt
 ps://jewishtoronto.com/calendar/small-wonders-8th-annual-bake-sale\n\n8th 
 Annual Bake Sale
DTSTART;TZID=America/Toronto:20140602T090000
DTEND;TZID=America/Toronto:20140602T160000
END:VEVENT
END:VCALENDAR
