BEGIN:VCALENDAR
PRODID:-//eluceo/ical//2.0/EN
VERSION:2.0
CALSCALE:GREGORIAN
BEGIN:VEVENT
UID:239ec7790299654bfb904c4f7908aa63
DTSTAMP:20260422T102017Z
SUMMARY:Small Wonders- Night of Wonder
DESCRIPTION:UJA Federation of Greater Toronto\nJewish Toronto Calendar\nhtt
 ps://jewishtoronto.com/calendar/small-wonders--night-of-wonder-1525278175\
 n\nSmall Wonders is an organization that supports couples with the challen
 ges of infertility in many ways including halachically\, medically\, finan
 cially and emotionally.
DTSTART;TZID=America/Toronto:20181127T060000
DTEND;TZID=America/Toronto:20181127T235500
END:VEVENT
END:VCALENDAR
