BEGIN:VCALENDAR
PRODID:-//eluceo/ical//2.0/EN
VERSION:2.0
CALSCALE:GREGORIAN
BEGIN:VEVENT
UID:5477c8fd5061143a16632c3cc0b19e11
DTSTAMP:20260426T042453Z
SUMMARY:Sleep like a Baby When you’re Over 55 with Dr. Jeffrey J. Lipsitz
DESCRIPTION:UJA Federation of Greater Toronto\nJewish Toronto Calendar\nhtt
 ps://jewishtoronto.com/calendar/sleep-like-a-baby-when-youre-over-55-with-
 dr-jeffrey-j-lipsitz-1515192419\n\nA Temple Sinai Program: Sleep like a Ba
 by When you’re Over 55 with Dr. Jeffrey J. Lipsitz\n\nLearn how you can 
 improve the quality and quantity of sleep you get by introducing simple ch
 anges to your sleep habits. Dr. Jeffrey J. Lipsitz is the medical director
  of the Sleep Disorders Centre of Metropolitan Toronto and has spent the p
 ast 30 years of his professional life dealing exclusively with sleep-wake 
 disorders. A light lunch will be served. Time: 12:00 p.m. Cost: Members: $
 15\; Guests: $18....
DTSTART;TZID=America/Toronto:20180115T120000
DTEND;TZID=America/Toronto:20180115T140000
END:VEVENT
END:VCALENDAR
