BEGIN:VCALENDAR
PRODID:-//eluceo/ical//2.0/EN
VERSION:2.0
CALSCALE:GREGORIAN
BEGIN:VEVENT
UID:1e68841e1e20fdc6e4eb9ee0bd84af93
DTSTAMP:20260421T113001Z
SUMMARY:Skate with BEBY and Adath Israel
DESCRIPTION:UJA Federation of Greater Toronto\nJewish Toronto Calendar\nhtt
 ps://jewishtoronto.com/calendar/skate-with-beby-and-adath-israel-166967158
 8\n\nJoin Beth Emeth and Adath Israel as we skate at Irving Chapley Ice Ri
 nk.
DTSTART;TZID=America/Toronto:20230108T130000
DTEND;TZID=America/Toronto:20230108T150000
END:VEVENT
END:VCALENDAR
