BEGIN:VCALENDAR
PRODID:-//eluceo/ical//2.0/EN
VERSION:2.0
CALSCALE:GREGORIAN
BEGIN:VEVENT
UID:d4b7db8aab3ec287580d54fadb025f27
DTSTAMP:20260425T120543Z
SUMMARY:Six Months in Hell\; Bring  Them Home Now
DESCRIPTION:UJA Federation of Greater Toronto\nJewish Toronto Calendar\nhtt
 ps://jewishtoronto.com/calendar/six-months-in-hell-bring--them-home-now-17
 11326860\n\nRally for the hostages in Gaza and their families awaiting the
 ir release\, stand with Israel and the Jewish people at this large inner c
 ity event.
DTSTART;TZID=America/Toronto:20240407T140000
DTEND;TZID=America/Toronto:20240407T153000
END:VEVENT
END:VCALENDAR
