BEGIN:VCALENDAR
PRODID:-//eluceo/ical//2.0/EN
VERSION:2.0
CALSCALE:GREGORIAN
BEGIN:VEVENT
UID:418740c516a3edef109e71e663347111
DTSTAMP:20260422T203259Z
SUMMARY:Sing for the Children 2017 - British\, Yiddish & Kiddush Part 2
DESCRIPTION:UJA Federation of Greater Toronto\nJewish Toronto Calendar\nhtt
 ps://jewishtoronto.com/calendar/sing-for-the-children-2017---british-yiddi
 sh--kiddush-part-2-1485208340\n\n“British\, Yiddish & Kiddush Part 2” 
 is a one-night-only musical event at Toronto’s Roy Thompson Hall on Thur
 sday\, March 30\, 2017. The production features the three musical talents 
 who starred in the original “British\, Yiddish & Kiddush” in 2016 – 
 British entertainer Simon Spiro\, Yiddish entertainer Mike Burstyn\, and w
 orld-renowned Israeli Cantor Itzhak Meir Helfgot. Each one is a superstar 
 in his own area of music\, and last year their coming together to perform 
 for the first time ...
DTSTART;TZID=America/Toronto:20170330T193000
DTEND;TZID=America/Toronto:20170330T220000
END:VEVENT
END:VCALENDAR
