BEGIN:VCALENDAR
PRODID:-//eluceo/ical//2.0/EN
VERSION:2.0
CALSCALE:GREGORIAN
BEGIN:VEVENT
UID:f2ef16910e3af038086c936f38301cb1
DTSTAMP:20260421T121719Z
SUMMARY:Sinai Health Foundation Stewardship Event
DESCRIPTION:UJA Federation of Greater Toronto\nJewish Toronto Calendar\nhtt
 ps://jewishtoronto.com/calendar/sinai-health-foundation-stewardship-event-
 1552335955\n\nAn Evening of Appreciation – Private Event
DTSTART;TZID=America/Toronto:20191006T180000
DTEND;TZID=America/Toronto:20191006T210000
END:VEVENT
END:VCALENDAR
