BEGIN:VCALENDAR
PRODID:-//eluceo/ical//2.0/EN
VERSION:2.0
CALSCALE:GREGORIAN
BEGIN:VEVENT
UID:14bbe2d30c88d01f2de20fdb2217889f
DTSTAMP:20260422T061046Z
SUMMARY:Simple Truths | Where Pleasure Meets Purpose
DESCRIPTION:UJA Federation of Greater Toronto\nJewish Toronto Calendar\nhtt
 ps://jewishtoronto.com/calendar/simple-truths--where-pleasure-meets-purpos
 e-1481837394\n\nWHERE PLEASURE MEETS PURPOSE\nIt is only natural to want t
 o enjoy life’s pleasures. At the same time\, all the pleasures on earth 
 cannot satisfy our inner craving for deeper meaning and purpose.\nHow are 
 we to balance our inner tug toward all things pleasurable with our human n
 eed for meaning and spirituality? Are these desires mutually exclusive? Ca
 n they ever align in pursuit of a common goal? This lesson explores the in
 tersection of these two potent human needs\, to extract secrets to whol...
DTSTART;TZID=America/Toronto:20170104T200000
DTEND;TZID=America/Toronto:20170104T213000
END:VEVENT
END:VCALENDAR
