BEGIN:VCALENDAR
PRODID:-//eluceo/ical//2.0/EN
VERSION:2.0
CALSCALE:GREGORIAN
BEGIN:VEVENT
UID:03e5a25a803695e68e8be7b884830067
DTSTAMP:20260420T161103Z
SUMMARY:Shrinking the Israeli-Palestinian Conflict with Micah Goodman
DESCRIPTION:UJA Federation of Greater Toronto\nJewish Toronto Calendar\nhtt
 ps://jewishtoronto.com/calendar/shrinking-the-israeli-palestinian-conflict
 -with-micah-goodman-1648229932\n\nShrinking the Israeli-Palestinian Confli
 ct: Practical & Ethical Dilemmas\nThe Shalom Hartman Institute Presents it
 s inaugural Canada-wide virtual event.\nHear from Hartman fellow and best-
 selling author Micah\nGoodman\, the thought leader behind the idea of shri
 nking\nthe Israeli-Palestinian conflict that is currently influencing\nIsr
 aeli policy\, about what this concept really means\, how the\npremise has 
 moved from idea to practice\, and the ethical\ndilemmas it raises
DTSTART;TZID=America/Toronto:20220410T120000
DTEND;TZID=America/Toronto:20220410T130000
END:VEVENT
END:VCALENDAR
