BEGIN:VCALENDAR
PRODID:-//eluceo/ical//2.0/EN
VERSION:2.0
CALSCALE:GREGORIAN
BEGIN:VEVENT
UID:858dfe7967705e09d28ed1e5dd0cef44
DTSTAMP:20260420T005924Z
SUMMARY:Short & Sweet Multi-Generational Family Service
DESCRIPTION:UJA Federation of Greater Toronto\nJewish Toronto Calendar\nhtt
 ps://jewishtoronto.com/calendar/short--sweet-multi-generational-family-ser
 vice-1700681448\n\nBeth Tzedec&#039\;s monthly Short &amp\; Sweet Multi-Ge
 nerational Family Service offers a lively\, engaging prayer service incorp
 orating the participation of the children\, teens and families in attendan
 ce\, followed by a community dairy luncheon.
DTSTART;TZID=America/Toronto:20231202T103000
DTEND;TZID=America/Toronto:20231202T120000
END:VEVENT
END:VCALENDAR
