BEGIN:VCALENDAR
PRODID:-//eluceo/ical//2.0/EN
VERSION:2.0
CALSCALE:GREGORIAN
BEGIN:VEVENT
UID:0bffae10964a6c08e46ea1aa678a221f
DTSTAMP:20260420T005804Z
SUMMARY:Short & Sweet Multi-Generational Family Service
DESCRIPTION:UJA Federation of Greater Toronto\nJewish Toronto Calendar\nhtt
 ps://jewishtoronto.com/calendar/short--sweet-multi-generational-family-ser
 vice-1673882183\n\nBeth Tzedec's monthly Family Service offers a lively\, 
 engaging prayer service incorporating the participation of the children\, 
 teens and families in attendance\, followed by a community dairy luncheon.
  RSVPs appreciated to Daniel Silverman at dsilverman@beth-tzedec.org
DTSTART;TZID=America/Toronto:20230211T103000
DTEND;TZID=America/Toronto:20230211T130000
END:VEVENT
END:VCALENDAR
