BEGIN:VCALENDAR
PRODID:-//eluceo/ical//2.0/EN
VERSION:2.0
CALSCALE:GREGORIAN
BEGIN:VEVENT
UID:a6a404fb11bef4a0de6e1590c8dde0c6
DTSTAMP:20260419T142321Z
SUMMARY:Sholem Aleichem Performances with HGJTC Cantor Osborne and Mikhl Ya
 shinsky
DESCRIPTION:UJA Federation of Greater Toronto\nJewish Toronto Calendar\nhtt
 ps://jewishtoronto.com/calendar/sholem-aleichem-performances-with-hgjtc-ca
 ntor-osborne-and-mikhl-yashinsky-1614359138\n\nA Temple Sinai Program: Sho
 lem Aleichem Performances with Harold Green Jewish Theatre and Discussions
  with Cantor Charles Osborne and Mikhl Yashinsky Thursdays March 4\, 11 an
 d 18 at 7.00 p.m. Sholem Aleichem\, the much-loved classical Yiddish write
 r\, will be celebrated over three special evenings in March. On each of th
 e evenings\, we will enjoy a performance of a short story by the Harold Gr
 een Jewish Theatre Company. After the performance\, Cantor Osborne will le
 ad an engaging discussion with ...
DTSTART;TZID=America/Toronto:20210311T190000
DTEND;TZID=America/Toronto:20210311T200000
END:VEVENT
END:VCALENDAR
