BEGIN:VCALENDAR
PRODID:-//eluceo/ical//2.0/EN
VERSION:2.0
CALSCALE:GREGORIAN
BEGIN:VEVENT
UID:72814375503f7b226a69840ed358f524
DTSTAMP:20260421T234144Z
SUMMARY:Shmuel Zahavy Cheder Chabad 30th Anniversary Dinner
DESCRIPTION:UJA Federation of Greater Toronto\nJewish Toronto Calendar\nhtt
 ps://jewishtoronto.com/calendar/shmuel-zahavy-cheder-chabad-30th-anniversa
 ry-dinner-1455819603\n\nGala Dinner
DTSTART;TZID=America/Toronto:20160621T180000
DTEND;TZID=America/Toronto:20160621T220000
END:VEVENT
END:VCALENDAR
