BEGIN:VCALENDAR
PRODID:-//eluceo/ical//2.0/EN
VERSION:2.0
CALSCALE:GREGORIAN
BEGIN:VEVENT
UID:4a811a6edb1446c34bd6e34235fbf870
DTSTAMP:20260423T001957Z
SUMMARY:Shmini Atzeret
DESCRIPTION:UJA Federation of Greater Toronto\nJewish Toronto Calendar\nhtt
 ps://jewishtoronto.com/calendar/shmini-atzeret\n\nShmini Atzeret
DTSTART;TZID=America/Toronto:20141016T000000
DTEND;TZID=America/Toronto:20141016T235959
END:VEVENT
END:VCALENDAR
