BEGIN:VCALENDAR
PRODID:-//eluceo/ical//2.0/EN
VERSION:2.0
CALSCALE:GREGORIAN
BEGIN:VEVENT
UID:ec4daa39d863f4482df658140b4b3e78
DTSTAMP:20260422T071716Z
SUMMARY:Shine A LIght 2022: Free Film Masterclass
DESCRIPTION:UJA Federation of Greater Toronto\nJewish Toronto Calendar\nhtt
 ps://jewishtoronto.com/calendar/shine-a-light-2022-free-film-masterclass-1
 668711629\n\nAs part of the North American 'Shine A Light on Antisemitism'
  initiative\nTJFF PRESENTS A FREE FILM MASTERCLASS WITH DR. ERIC GOLDMAN\n
 \nSince World War II\, Hollywood filmmakers have repeatedly\, though often
  reluctantly\, explored the hate that will not die. Some\, particularly me
 mbers of the North American Jewish Establishment\, were fearful that raisi
 ng the issue might cause greater harm than good.\n\nThe issue of antisemit
 ism as subject for cinema has always been hotly contested. How have the...
DTSTART;TZID=America/Toronto:20221204T190000
DTEND;TZID=America/Toronto:20221204T204500
END:VEVENT
END:VCALENDAR
