BEGIN:VCALENDAR
PRODID:-//eluceo/ical//2.0/EN
VERSION:2.0
CALSCALE:GREGORIAN
BEGIN:VEVENT
UID:b0c0ae5ed8b2081e08ddb374bfff36ad
DTSTAMP:20260423T182704Z
SUMMARY:Shen Yun Symphony Orchestra
DESCRIPTION:UJA Federation of Greater Toronto\nJewish Toronto Calendar\nhtt
 ps://jewishtoronto.com/calendar/shen-yun-symphony-orchestra-1534731779\n\n
 Exquisite Chinese instruments meld with a grand Western orchestra in a per
 fect harmony of East and West. New York-based Shen Yun Symphony Orchestra 
 blends the two musical traditions in what critics call a breakthrough in c
 lassical music. Western strings\, percussion\, woodwinds\, and brass accen
 tuate the melodies of soul-stirring ancient Chinese instruments like the p
 lucked pipa and two-stringed erhu.\nPart of the renowned Shen Yun Performi
 ng Arts classical Chinese dance company that wows sold-o...
DTSTART;TZID=America/Toronto:20181005T200000
DTEND;TZID=America/Toronto:20181005T213000
END:VEVENT
END:VCALENDAR
