BEGIN:VCALENDAR
PRODID:-//eluceo/ical//2.0/EN
VERSION:2.0
CALSCALE:GREGORIAN
BEGIN:VEVENT
UID:edb6c81b10a283dc41c00ad39c9340ea
DTSTAMP:20260420T201921Z
SUMMARY:ShebaTalk 2022 - Men's health
DESCRIPTION:UJA Federation of Greater Toronto\nJewish Toronto Calendar\nhtt
 ps://jewishtoronto.com/calendar/shebatalk-2022-mens-health\n\nCanadian Fri
 ends of Sheba would like to invite you to ShebaTalk 2022. Last year we hig
 hlighted women in health\, and this year\, we will focus on men's health. 
 For more details\, please visit our website: https://www.shebacanada.org/
DTSTART;TZID=America/Toronto:20221023T103000
DTEND;TZID=America/Toronto:20221023T123000
END:VEVENT
END:VCALENDAR
