BEGIN:VCALENDAR
PRODID:-//eluceo/ical//2.0/EN
VERSION:2.0
CALSCALE:GREGORIAN
BEGIN:VEVENT
UID:6028bfd2fec919570ab20b5b69b4ae58
DTSTAMP:20260425T185420Z
SUMMARY:Sheba Under The Stars 2022
DESCRIPTION:UJA Federation of Greater Toronto\nJewish Toronto Calendar\nhtt
 ps://jewishtoronto.com/calendar/sheba-under-the-stars-2022-1635201738\n\nC
 anadian Friends of Sheba returns this year (2022) with another exciting Sh
 eba Under The Stars event. We look forward to seeing you.
DTSTART;TZID=America/Toronto:20220601T180000
DTEND;TZID=America/Toronto:20220601T200000
END:VEVENT
END:VCALENDAR
