BEGIN:VCALENDAR
PRODID:-//eluceo/ical//2.0/EN
VERSION:2.0
CALSCALE:GREGORIAN
BEGIN:VEVENT
UID:fdb03b1cabb6555f28032e3a2057fc41
DTSTAMP:20260424T001322Z
SUMMARY:ShebaTalk 2020
DESCRIPTION:UJA Federation of Greater Toronto\nJewish Toronto Calendar\nhtt
 ps://jewishtoronto.com/calendar/sheba-under-the-stars-1593794012\n\nA fund
 raiser organized by Canadian Friends of Sheba in support of Sheba Medical 
 Center- Tel Hashomer.\n\nRegistration link\n\nhttps://www.shebacanada.org/
 upcoming-events/2020/10/25/shebatalk-2020
DTSTART;TZID=America/Toronto:20201025T110000
DTEND;TZID=America/Toronto:20201025T120000
END:VEVENT
END:VCALENDAR
