BEGIN:VCALENDAR
PRODID:-//eluceo/ical//2.0/EN
VERSION:2.0
CALSCALE:GREGORIAN
BEGIN:VEVENT
UID:89b1ac70d51a0d7c47d3a9e445c8828f
DTSTAMP:20260425T171557Z
SUMMARY:Sheba Talk
DESCRIPTION:UJA Federation of Greater Toronto\nJewish Toronto Calendar\nhtt
 ps://jewishtoronto.com/calendar/sheba-talk-1741377555\n\nOur Sheba Talk se
 ries returns for a meaningful talk with Prof. Amitai Ziv - MD\, MHA\, Depu
 ty Director of the Sheba Medical Center and Director of Sheba's Rehabilita
 tion Hospital. Please check our website\, and join our email list for upco
 ming event details.
DTSTART;TZID=America/Toronto:20250915T180000
DTEND;TZID=America/Toronto:20250915T203000
END:VEVENT
END:VCALENDAR
