BEGIN:VCALENDAR
PRODID:-//eluceo/ical//2.0/EN
VERSION:2.0
CALSCALE:GREGORIAN
BEGIN:VEVENT
UID:0d931270ee517d39e69d944b137874cf
DTSTAMP:20260421T035512Z
SUMMARY:Sheba Major Gifts Event
DESCRIPTION:UJA Federation of Greater Toronto\nJewish Toronto Calendar\nhtt
 ps://jewishtoronto.com/calendar/sheba-major-gifts-event-1770826291\n\nStay
  tuned for more details.
DTSTART;TZID=America/Toronto:20270506T183000
DTEND;TZID=America/Toronto:20270506T203000
END:VEVENT
END:VCALENDAR
