BEGIN:VCALENDAR
PRODID:-//eluceo/ical//2.0/EN
VERSION:2.0
CALSCALE:GREGORIAN
BEGIN:VEVENT
UID:72c86873f5df3080d8406e5742c4f205
DTSTAMP:20260421T032930Z
SUMMARY:Sharon Cole Memorial Lecture — It’s My Fault and the Chimney Sw
 eep’s
DESCRIPTION:UJA Federation of Greater Toronto\nJewish Toronto Calendar\nhtt
 ps://jewishtoronto.com/calendar/sharon-cole-memorial-lecture--its-my-fault
 -and-the-chimney-sweeps-1492897408\n\nA Temple Sinai Program — Sharon Co
 le Memorial Lecture — It’s My Fault and the Chimney Sweep’s\n\nStori
 es about coming to Canada in the 1950s\, and life on Kensington Avenue. An
 na Kerz is an accomplished storyteller whose tales will touch your heart a
 nd tickle your funny bone. Her personal stories are about immigration and 
 her childhood in Kensington Market. Time: 8:00 p.m. There is no charge and
  the public is welcome. For more information: www.naamat.com/toronto. A Co
 le Family and Club...
DTSTART;TZID=America/Toronto:20170525T200000
DTEND;TZID=America/Toronto:20170525T213000
END:VEVENT
END:VCALENDAR
