BEGIN:VCALENDAR
PRODID:-//eluceo/ical//2.0/EN
VERSION:2.0
CALSCALE:GREGORIAN
BEGIN:VEVENT
UID:207c4426a90dbbb56c4d81dde7fbdbc0
DTSTAMP:20260422T052800Z
SUMMARY:Canadian Friends of Shalva Shopping Day Event
DESCRIPTION:UJA Federation of Greater Toronto\nJewish Toronto Calendar\nhtt
 ps://jewishtoronto.com/calendar/shalva-shopping-day-event\n\nCanadian Frie
 nds of Shalva Shopping Day Event.
DTSTART;TZID=America/Toronto:20230430T000000
DTEND;TZID=America/Toronto:20230430T000000
END:VEVENT
END:VCALENDAR
