BEGIN:VCALENDAR
PRODID:-//eluceo/ical//2.0/EN
VERSION:2.0
CALSCALE:GREGORIAN
BEGIN:VEVENT
UID:5a730e36272a5f5dcf31118d5aaf4b5b
DTSTAMP:20260421T214801Z
SUMMARY:Shalva Private Chef Demo
DESCRIPTION:UJA Federation of Greater Toronto\nJewish Toronto Calendar\nhtt
 ps://jewishtoronto.com/calendar/shalva-private-chef-demo-1532537677\n\n80-
 100 people\, dessert & coffee will be served\, 7:30 p.m. – 9:30 p.m.
DTSTART;TZID=America/Toronto:20190516T193000
DTEND;TZID=America/Toronto:20190516T213000
END:VEVENT
END:VCALENDAR
