BEGIN:VCALENDAR
PRODID:-//eluceo/ical//2.0/EN
VERSION:2.0
CALSCALE:GREGORIAN
BEGIN:VEVENT
UID:02b9a99e6b91f7757b334dbebadd5b04
DTSTAMP:20260424T085123Z
SUMMARY:Shalva Ladies Games Night
DESCRIPTION:UJA Federation of Greater Toronto\nJewish Toronto Calendar\nhtt
 ps://jewishtoronto.com/calendar/shalva-ladies-games-night-1541797840\n\nCa
 nadian Friends of Shalva's annual ladies games night
DTSTART;TZID=America/Toronto:20190430T183000
DTEND;TZID=America/Toronto:20190430T220500
END:VEVENT
END:VCALENDAR
