BEGIN:VCALENDAR
PRODID:-//eluceo/ical//2.0/EN
VERSION:2.0
CALSCALE:GREGORIAN
BEGIN:VEVENT
UID:a0e61f92c78451f6feebc3aac354136f
DTSTAMP:20260421T152607Z
SUMMARY:Shalva Ladies Game Night 2020
DESCRIPTION:UJA Federation of Greater Toronto\nJewish Toronto Calendar\nhtt
 ps://jewishtoronto.com/calendar/shalva-ladies-game-night-2020-1558625060\n
 \nall games welcome to play.. come for a light dinner\, great raffle prize
 s and and evening of fun
DTSTART;TZID=America/Toronto:20200420T180000
DTEND;TZID=America/Toronto:20200420T220000
END:VEVENT
END:VCALENDAR
