BEGIN:VCALENDAR
PRODID:-//eluceo/ical//2.0/EN
VERSION:2.0
CALSCALE:GREGORIAN
BEGIN:VEVENT
UID:c8945381a96d35f0323977d6e137abe3
DTSTAMP:20260424T054003Z
SUMMARY:Shalva Ladies' Game Night
DESCRIPTION:UJA Federation of Greater Toronto\nJewish Toronto Calendar\nhtt
 ps://jewishtoronto.com/calendar/shalva-game-night-1750865426\n\nYou're Inv
 ited to join us for a Game Night in Support of Shalva!\n\nJoin us for an e
 vening of fun and friendly competition as we play classic games like Mahjo
 ng\, Canasta and more!\n\nAll proceeds from the event will go to support S
 halva\, providing vital services to individuals with disabilities.\nWhethe
 r you're a seasoned player or a beginner\, come for the games\, stay for t
 he cause! Let's make a difference together while enjoying a night of laugh
 ter and connection.\n\nFor more information\, co...
DTSTART;TZID=America/Toronto:20260511T183000
DTEND;TZID=America/Toronto:20260511T213000
END:VEVENT
END:VCALENDAR
