BEGIN:VCALENDAR
PRODID:-//eluceo/ical//2.0/EN
VERSION:2.0
CALSCALE:GREGORIAN
BEGIN:VEVENT
UID:142bfd4ef5f3ecf1066d1f2cbe35f035
DTSTAMP:20260423T032321Z
SUMMARY:Shalom Social Paint Night
DESCRIPTION:UJA Federation of Greater Toronto\nJewish Toronto Calendar\nhtt
 ps://jewishtoronto.com/calendar/shalom-social-paint-night\n\nGrab a brush 
 and paint the night away!\n\nJoin us on February 6 for PAINT NIGHT - part 
 of Reena's Shalom Social program on Thursdays 6:30 pm - 8:30 pm\n\nCost: $
 10 each week (includes light refreshments)\n\nEach week features a differe
 nt fun-filled activity for our individuals\n\n 
DTSTART;TZID=America/Toronto:20200206T183000
DTEND;TZID=America/Toronto:20200206T203000
END:VEVENT
END:VCALENDAR
