BEGIN:VCALENDAR
PRODID:-//eluceo/ical//2.0/EN
VERSION:2.0
CALSCALE:GREGORIAN
BEGIN:VEVENT
UID:284c10b238e8bcd5b1ab738459a5bab0
DTSTAMP:20260420T102235Z
SUMMARY:Shalom Hartman Institute and Holy Blossom Temple Tal Becker Marquee
  Event
DESCRIPTION:UJA Federation of Greater Toronto\nJewish Toronto Calendar\nhtt
 ps://jewishtoronto.com/calendar/shalom-hartman-institute-and-holy-blossom-
 temple-tal-becker-marquee-event-1742315033\n\nMore information coming soon
 .
DTSTART;TZID=America/Toronto:20250520T193000
DTEND;TZID=America/Toronto:20250520T210000
END:VEVENT
END:VCALENDAR
