BEGIN:VCALENDAR
PRODID:-//eluceo/ical//2.0/EN
VERSION:2.0
CALSCALE:GREGORIAN
BEGIN:VEVENT
UID:f6044d7d4faee762b4f1176f42fe7011
DTSTAMP:20260423T183903Z
SUMMARY:Shake and Bake at Beth Tikvah Synagogue
DESCRIPTION:UJA Federation of Greater Toronto\nJewish Toronto Calendar\nhtt
 ps://jewishtoronto.com/calendar/shake-and-bake-at-beth-tikvah-synagogue-15
 08875740\n\nThe Islamic Foundation of Toronto and Beth Tikvah Synagogue pr
 esent this Interfaith event.\n\nAt Beth Tikvah Synagogue\, we prepare Ḥa
 llah and Mana'ish\, cook\, pray\, eat and learn together with Faith Leader
 s\,  Imam Badat and Rabbi Jarrod Grover.\n\nCall the office at 416-221-34
 33 before November 7 to register.\n\nIn lieu of a fee\, kindly bring a non
 -perishable food item for donation to the Muslim Food Bank.
DTSTART;TZID=America/Toronto:20171112T153000
DTEND;TZID=America/Toronto:20171112T183000
END:VEVENT
END:VCALENDAR
