BEGIN:VCALENDAR
PRODID:-//eluceo/ical//2.0/EN
VERSION:2.0
CALSCALE:GREGORIAN
BEGIN:VEVENT
UID:422615ae4a2c16f9bd848ea2a6a7585e
DTSTAMP:20260423T011755Z
SUMMARY:Shabbos Kestenbaum "Are Students Safe on Campus?"
DESCRIPTION:UJA Federation of Greater Toronto\nJewish Toronto Calendar\nhtt
 ps://jewishtoronto.com/calendar/shabbos-kestenbaum-are-students-safe-on-ca
 mpus-1762795480\n\nJoin us for a community-wide evening featuring renowned
  speaker Shabbos Kestenbaun.
DTSTART;TZID=America/Toronto:20251123T193000
DTEND;TZID=America/Toronto:20251123T213000
END:VEVENT
END:VCALENDAR
