BEGIN:VCALENDAR
PRODID:-//eluceo/ical//2.0/EN
VERSION:2.0
CALSCALE:GREGORIAN
BEGIN:VEVENT
UID:a1325535e928668032e6a8b7a79875c0
DTSTAMP:20260422T210456Z
SUMMARY:ShabbaTot Graduate
DESCRIPTION:UJA Federation of Greater Toronto\nJewish Toronto Calendar\nhtt
 ps://jewishtoronto.com/calendar/shabbatot-graduate-1632164908\n\nJoin Bryn
 a for a musical morning where we will learn Hebrew vocabulary\, and make c
 onnections via songs\, games and stories. 
DTSTART;TZID=America/Toronto:20211002T100000
DTEND;TZID=America/Toronto:20211002T103000
END:VEVENT
END:VCALENDAR
