BEGIN:VCALENDAR
PRODID:-//eluceo/ical//2.0/EN
VERSION:2.0
CALSCALE:GREGORIAN
BEGIN:VEVENT
UID:6bd6bf2715f4ab6e38df9b1c91544f55
DTSTAMP:20260425T235115Z
SUMMARY:Shabbat Together: Music for Babies and Toddlers
DESCRIPTION:UJA Federation of Greater Toronto\nJewish Toronto Calendar\nhtt
 ps://jewishtoronto.com/calendar/shabbat-together-music-for-babies-and-todd
 lers-1617118253\n\nJoin us for Shabbat music\, stories and more with a par
 ent\, grandparent or family.
DTSTART;TZID=America/Toronto:20210409T100000
DTEND;TZID=America/Toronto:20210409T110000
END:VEVENT
END:VCALENDAR
