BEGIN:VCALENDAR
PRODID:-//eluceo/ical//2.0/EN
VERSION:2.0
CALSCALE:GREGORIAN
BEGIN:VEVENT
UID:50cd1dee95558f9248c698de923a5fab
DTSTAMP:20260424T034913Z
SUMMARY:Shabbat Together: LGBTQ Intergenerational Shabbat
DESCRIPTION:UJA Federation of Greater Toronto\nJewish Toronto Calendar\nhtt
 ps://jewishtoronto.com/calendar/shabbat-together-lgbtq-intergenerational-s
 habbat-1492804922\n\nAlternative egalitarian service and candle lighting a
 t 6:30 pm\, potluck dinner at 7:30 pm.\nCome alone or with your whole fami
 ly for a relaxed\, soulful\, and playful Shabbat experience. LGBTQ individ
 uals\, families and allies of all ages\, backgrounds\, and Jewish affiliat
 ions are welcome.\nFREE with Potluck registration:  anniem@mnjcc.org (416)
  924-6211 x388
DTSTART;TZID=America/Toronto:20170519T183000
DTEND;TZID=America/Toronto:20170519T223000
END:VEVENT
END:VCALENDAR
